BEGIN:VCALENDAR
VERSION:2.0
PRODID:-//Canada Health Alliance - ECPv6.15.16//NONSGML v1.0//EN
CALSCALE:GREGORIAN
METHOD:PUBLISH
X-WR-CALNAME:Canada Health Alliance
X-ORIGINAL-URL:https://canadahealthalliance.org
X-WR-CALDESC:Events for Canada Health Alliance
REFRESH-INTERVAL;VALUE=DURATION:PT1H
X-Robots-Tag:noindex
X-PUBLISHED-TTL:PT1H
BEGIN:VTIMEZONE
TZID:America/Vancouver
BEGIN:DAYLIGHT
TZOFFSETFROM:-0800
TZOFFSETTO:-0700
TZNAME:PDT
DTSTART:20250309T100000
END:DAYLIGHT
BEGIN:STANDARD
TZOFFSETFROM:-0700
TZOFFSETTO:-0800
TZNAME:PST
DTSTART:20251102T090000
END:STANDARD
BEGIN:DAYLIGHT
TZOFFSETFROM:-0800
TZOFFSETTO:-0700
TZNAME:PDT
DTSTART:20260308T100000
END:DAYLIGHT
BEGIN:STANDARD
TZOFFSETFROM:-0700
TZOFFSETTO:-0800
TZNAME:PST
DTSTART:20261101T090000
END:STANDARD
BEGIN:DAYLIGHT
TZOFFSETFROM:-0800
TZOFFSETTO:-0700
TZNAME:PDT
DTSTART:20270314T100000
END:DAYLIGHT
BEGIN:STANDARD
TZOFFSETFROM:-0700
TZOFFSETTO:-0800
TZNAME:PST
DTSTART:20271107T090000
END:STANDARD
END:VTIMEZONE
BEGIN:VEVENT
DTSTART;TZID=America/Vancouver:20260318T170000
DTEND;TZID=America/Vancouver:20260318T190000
DTSTAMP:20260424T113238
CREATED:20260222T014552Z
LAST-MODIFIED:20260227T060321Z
UID:10000010-1773853200-1773860400@canadahealthalliance.org
SUMMARY:CHA New Health Series Training Course: What's Wrong With Kids Today
DESCRIPTION:Explore modern threats / Discover simple safeguards \nThis unique and highly informative training session looks at the Top Lifestyle Factors Threatening Healthy Child Development Outcomes and What Parents Can Do About Them and is hosted by frontline child & youth care professional Leah Crowell. \nJoin us in this important presentation and discussion exploring some of the most pressing challenges and harms threatening the healthy development of young people today. In this session you will: hear about how technology\, industry\, culture\, and the last five years have culminated to negatively impact developing minds and hearts; and take a look at some practical ways we can begin to intervene by leveraging the influence of the first teachers\, the original lifeline – the family. \nYou should attend this course if you are a parent\, grandparent\, teacher\, or caregiver working with children and youth\, to; \n\nLearn more about lifestyle\, product\, and cultural factors negatively impacting healthy development\,\nHear about how these factors have been analyzed and documented by doctors and specialists alike and;\nFind out how you can begin to intervene and reduce the negative impacts of these factors\,\nExplore easy steps you can take to get started and focus in on the key areas that need our attention TODAY.\n\nThis exclusive 2-hour training course will be held on WEDNESDAY MARCH 18th starting at 5 pm PST / 8 pm EST. \nTickets are $30 for the public and $20 for paid members of Canada Health Alliance\, Vaccine Choice Canada and the Canadian Covid Care Alliance. To buy your tickets simply click the button below… \nSpeaker Bio: Leah Crowell is a sociologist and practicing child and youth care professional with 25 years experience. During her career she has worked in research\, restorative justice\, in a youth detention centre\, a group home\, daycares\, public schools\, and various recreation programs. The focus of Leah’s research and practice has been\, and continues to be\, the social\, emotional\, and cognitive development of our young people\, along with building confident and resilient youth. \n 
URL:https://canadahealthalliance.org/event/discover-whats-wrong-with-kids-today/
ATTACH;FMTTYPE=image/jpeg:https://canadahealthalliance.org/wp-content/uploads/2026/02/Leah-Crowell.jpg
LOCATION:
END:VEVENT
END:VCALENDAR