BEGIN:VCALENDAR
VERSION:2.0
PRODID:-//Canada Health Alliance - ECPv6.15.16//NONSGML v1.0//EN
CALSCALE:GREGORIAN
METHOD:PUBLISH
X-ORIGINAL-URL:https://canadahealthalliance.org
X-WR-CALDESC:Events for Canada Health Alliance
REFRESH-INTERVAL;VALUE=DURATION:PT1H
X-Robots-Tag:noindex
X-PUBLISHED-TTL:PT1H
BEGIN:VTIMEZONE
TZID:America/Vancouver
BEGIN:DAYLIGHT
TZOFFSETFROM:-0800
TZOFFSETTO:-0700
TZNAME:PDT
DTSTART:20250309T100000
END:DAYLIGHT
BEGIN:STANDARD
TZOFFSETFROM:-0700
TZOFFSETTO:-0800
TZNAME:PST
DTSTART:20251102T090000
END:STANDARD
BEGIN:DAYLIGHT
TZOFFSETFROM:-0800
TZOFFSETTO:-0700
TZNAME:PDT
DTSTART:20260308T100000
END:DAYLIGHT
BEGIN:STANDARD
TZOFFSETFROM:-0700
TZOFFSETTO:-0800
TZNAME:PST
DTSTART:20261101T090000
END:STANDARD
BEGIN:DAYLIGHT
TZOFFSETFROM:-0800
TZOFFSETTO:-0700
TZNAME:PDT
DTSTART:20270314T100000
END:DAYLIGHT
BEGIN:STANDARD
TZOFFSETFROM:-0700
TZOFFSETTO:-0800
TZNAME:PST
DTSTART:20271107T090000
END:STANDARD
END:VTIMEZONE
BEGIN:VEVENT
DTSTART;TZID=America/Vancouver:20260526T170000
DTEND;TZID=America/Vancouver:20260526T183000
DTSTAMP:20260425T031801
CREATED:20260414T021131Z
LAST-MODIFIED:20260417T234531Z
UID:10000016-1779814800-1779820200@canadahealthalliance.org
SUMMARY:CHA National Assembly Call with Lawyer & NCI Commissioner\, Myriam Bohémier
DESCRIPTION:Our next CHA National Assembly call will be with special guest Myriam Bohémier. \nMyriam is a practicing lawyer\, one of the National Citizen’s Inquiry (NCI) Commissioners\, is an Accredited Mediator and is a member of the CHA Board of Directors. \nIn this fascinating call that will be hosted by Alan Brough we will be talking about the NCI and how important – and unique – this initiative is\, especially now that we’re in this post-Covid era. However we will mainly be focusing on conflict resolution which is Myriam’s specific area of expertise. \nThis is very important for us all as unresolved conflicts have a significant impact on people’s health\, including anxiety\, sadness\, anger\, depression\, PTSD etc. As Myriam will explain in this ‘must watch’ discuss\, there are ways we can all learn to become better mediators to reduce the conflicts and tension in our lives\, and these skills will definitely help increase our contentment\, happiness and health.
URL:https://canadahealthalliance.org/event/cha-national-assembly-call-with-lawyer-nci-commissioner-myriam-bohemier/
ATTACH;FMTTYPE=image/jpeg:https://canadahealthalliance.org/wp-content/uploads/2026/04/Myriam-portrait-copy-4.jpg
LOCATION:
END:VEVENT
END:VCALENDAR