BEGIN:VCALENDAR
VERSION:2.0
PRODID:-//Canada Health Alliance - ECPv6.15.16//NONSGML v1.0//EN
CALSCALE:GREGORIAN
METHOD:PUBLISH
X-WR-CALNAME:Canada Health Alliance
X-ORIGINAL-URL:https://canadahealthalliance.org
X-WR-CALDESC:Events for Canada Health Alliance
REFRESH-INTERVAL;VALUE=DURATION:PT1H
X-Robots-Tag:noindex
X-PUBLISHED-TTL:PT1H
BEGIN:VTIMEZONE
TZID:America/Vancouver
BEGIN:DAYLIGHT
TZOFFSETFROM:-0800
TZOFFSETTO:-0700
TZNAME:PDT
DTSTART:20250309T100000
END:DAYLIGHT
BEGIN:STANDARD
TZOFFSETFROM:-0700
TZOFFSETTO:-0800
TZNAME:PST
DTSTART:20251102T090000
END:STANDARD
BEGIN:DAYLIGHT
TZOFFSETFROM:-0800
TZOFFSETTO:-0700
TZNAME:PDT
DTSTART:20260308T100000
END:DAYLIGHT
BEGIN:STANDARD
TZOFFSETFROM:-0700
TZOFFSETTO:-0800
TZNAME:PST
DTSTART:20261101T090000
END:STANDARD
BEGIN:DAYLIGHT
TZOFFSETFROM:-0800
TZOFFSETTO:-0700
TZNAME:PDT
DTSTART:20270314T100000
END:DAYLIGHT
BEGIN:STANDARD
TZOFFSETFROM:-0700
TZOFFSETTO:-0800
TZNAME:PST
DTSTART:20271107T090000
END:STANDARD
END:VTIMEZONE
BEGIN:VEVENT
DTSTART;TZID=America/Vancouver:20260317T170000
DTEND;TZID=America/Vancouver:20260317T183000
DTSTAMP:20260424T145004
CREATED:20260209T225626Z
LAST-MODIFIED:20260222T020922Z
UID:10000008-1773766800-1773772200@canadahealthalliance.org
SUMMARY:Throwing Caution to the Wind: Vaccination during pregnancy in Canada with CHA's Dr. Malthouse
DESCRIPTION:In the next episode of ‘Raising Healthy Children’ CHA’s Dr. Stephen Malthouse and VCC’s Ted Kuntz will be discussing the topic of vaccination during pregnancy. Dr. Malthouse will be presenting on the 6 vaccines promoted to pregnant women in Canada (influenza\, Covid-19\, diphtheria\, tetanus\, whooping cough and RSV vaccines) and the evidence (or lack thereof) that they are indeed “safe and effective”. They will then ask the questions: Did we learn anything from the thalidomide and diethylstilbestrol tragedies? How is Health Canada protecting pregnant women and unborn children? Where do the doctors\, midwives and the Society of Obstetricians and Gynecologists of Canada stand on this important issue? \nDon’t miss this shocking peek behind the obstetrical curtain. See the Canada Health Alliance newsletter for the link to pre-register for this online discussion.
URL:https://canadahealthalliance.org/event/throwing-caution-to-the-wind-vaccination-during-pregnancy-in-canada/
ATTACH;FMTTYPE=image/jpeg:https://canadahealthalliance.org/wp-content/uploads/2026/02/Throwing-caution-to-the-wind.jpg
LOCATION:
END:VEVENT
BEGIN:VEVENT
DTSTART;TZID=America/Vancouver:20260210T170000
DTEND;TZID=America/Vancouver:20260210T183000
DTSTAMP:20260424T145004
CREATED:20260127T050321Z
LAST-MODIFIED:20260127T050547Z
UID:10000006-1770742800-1770748200@canadahealthalliance.org
SUMMARY:Meet Herbalist & Author Chanchal Cabrera In Our Next CHA National Assembly Call
DESCRIPTION:Chanchal Cabrera MSC\, FNIMH\, (RH)AHG is a medical herbalist and has been in clinical practice for 35 years with a specialty in holistic oncology. She publishes widely in professional journals and is the author of ‘Fibromyalgia: A Journey towards Healing’ and ‘Holistic Cancer Care: An Herbal Approach to Preventing Cancer\, Helping Patients Thrive during Treatment\, and Minimizing the Risk of Recurrence.’ \nChanchal held the faculty chair in Botanical Medicine at the Boucher Institute of Naturopathic Medicine in New Westminster for 12 years from 2004 to 2016\, and lectures internationally on medical herbalism\, nutrition and health. \nChanchal is also a certified Shinrin Yoku (forest bathing) practitioner\, a certified Master Gardener and a certified Horticulture Therapist. She lives on Vancouver Island where her and her husband manage Innisfree Farm and Botanic Garden\, a 7 acre internationally registered botanic garden specializing in food and medicine plants\, and where they host apprenticeships in sustainable food production and herbal medicine. The farm also hosts Gardens without Borders\, a federally registered not-for-profit society that runs the botanic garden and provides horticulture therapy. \nWith her broad and varied experience and her life-long commitment to sharing her knowledge to help improve the wellbeing of those around her\, we are very privileged to have Chanchal as our CHA National Assembly call guest on Tuesday February 10th. The call starts at 5 pm PST / 6 pm MST / 8 pm EST. To be part of the Live audience for the very interesting and informative discussion pre-register at: vcclive.ca
URL:https://canadahealthalliance.org/event/meet-the-incredible-herbalist-and-author-chanchal-cabrera-in-our-next-cha-national-assembly-call/
ATTACH;FMTTYPE=image/jpeg:https://canadahealthalliance.org/wp-content/uploads/2026/01/Chanchal-event-header.jpg
END:VEVENT
BEGIN:VEVENT
DTSTART;TZID=America/Vancouver:20260203T160000
DTEND;TZID=America/Vancouver:20260203T173000
DTSTAMP:20260424T145004
CREATED:20260126T185839Z
LAST-MODIFIED:20260126T190548Z
UID:10000005-1770134400-1770139800@canadahealthalliance.org
SUMMARY:Find Out If Your Child Is Vaccine Injured with Dr's Malthouse and Moskowitz
DESCRIPTION:Dr. Richard Moskowitz will join CHA Director Dr. Stephen Malthouse and VCC President\, Ted Kuntz in the next episode of the excellent Raising Healthy Children series. In this discussion that will be held on Tuesday February 3rd\, our panel will be discussing why the adverse effects from vaccines can be so elusive and therefore easily missed\, a conclusion he reached during more than fifty years in family medical practice. \nIn 2020\, Dr. Moskowitz authored the book ‘Vaccines: A Reappraisal’ to share what he had observed in his patients and his review of the scientific research. Dr. Moskowitz is one of the few medical doctors who has publicly questioned and written about the risks of vaccines. \nThis call starts at 4 pm PST / 5 pm MST / 7 pm EST. To pre-register visit: vcclive.ca
URL:https://canadahealthalliance.org/event/find-out-if-your-child-is-vaccine-injured-with-drs-malthouse-and-moskowitz/
ATTACH;FMTTYPE=image/jpeg:https://canadahealthalliance.org/wp-content/uploads/2026/01/Drs-Mathouse-Moskowitz.jpg
END:VEVENT
END:VCALENDAR